BEGIN:VCALENDAR
METHOD:REQUEST
PRODID:-//events.orgNONSGML ical.net 4.0//EN
VERSION:2.0
BEGIN:VEVENT
DTEND;VALUE=DATE:20260619
DTSTAMP:20260424T092327Z
DTSTART;VALUE=DATE:20260619
LOCATION:Brick and Mortar Music Hall\, San Francisco
ORGANIZER;CN=:mailto:events@events.org
SEQUENCE:0
SUMMARY:Chase Icon
UID:40a1a19e-7dac-4bc4-b7ad-5359c5b32995
URL:https://events.org/e/Chase-Icon/VIOFPA3Y
BEGIN:VALARM
ACTION:DISPLAY
SUMMARY:Reminder
TRIGGER:-P1D
END:VALARM
END:VEVENT
END:VCALENDAR
