BEGIN:VCALENDAR
METHOD:REQUEST
PRODID:-//events.orgNONSGML ical.net 4.0//EN
VERSION:2.0
BEGIN:VEVENT
DTEND;VALUE=DATE:20260819
DTSTAMP:20260424T092046Z
DTSTART;VALUE=DATE:20260819
LOCATION:Crescent Ballroom\, Phoenix
ORGANIZER;CN=:mailto:events@events.org
SEQUENCE:0
SUMMARY:UPON YOUR DEAD BODY
UID:53eb6381-2219-48c5-be39-b589a9df8cee
URL:https://events.org/e/UPON-YOUR-DEAD-BODY/BQMEVCWC
BEGIN:VALARM
ACTION:DISPLAY
SUMMARY:Reminder
TRIGGER:-P1D
END:VALARM
END:VEVENT
END:VCALENDAR
