BEGIN:VCALENDAR
METHOD:REQUEST
PRODID:-//events.orgNONSGML ical.net 4.0//EN
VERSION:2.0
BEGIN:VEVENT
DTEND;VALUE=DATE:20260623
DTSTAMP:20260423T171948Z
DTSTART;VALUE=DATE:20260623
LOCATION:Fox Theatre Detroit\, Detroit
ORGANIZER;CN=:mailto:events@events.org
SEQUENCE:0
SUMMARY:Marcus King Band: Darling Blue Tour Pt. 2
UID:b2377175-21c1-45e8-bf2f-f2dfaaf22cd9
URL:https://events.org/e/Marcus-King-Band-Darling-Blue-Tour-Pt-2/QBDPVQJT
BEGIN:VALARM
ACTION:DISPLAY
SUMMARY:Reminder
TRIGGER:-P1D
END:VALARM
END:VEVENT
END:VCALENDAR
