BEGIN:VCALENDAR
METHOD:REQUEST
PRODID:-//events.orgNONSGML ical.net 4.0//EN
VERSION:2.0
BEGIN:VEVENT
DTEND;VALUE=DATE:20260430
DTSTAMP:20260424T081726Z
DTSTART;VALUE=DATE:20260430
LOCATION:The Women's Museum\, Dallas
ORGANIZER;CN=:mailto:events@events.org
SEQUENCE:0
SUMMARY:Rachel Webb: A Night of Jazz & Musical Theatre
UID:f98e5413-3758-4a43-b709-901965be6c0f
URL:https://events.org/e/Rachel-Webb-A-Night-of-Jazz-Musical-Theatre/X2XXH
 LG9
BEGIN:VALARM
ACTION:DISPLAY
SUMMARY:Reminder
TRIGGER:-P1D
END:VALARM
END:VEVENT
END:VCALENDAR
