BEGIN:VCALENDAR
METHOD:REQUEST
PRODID:-//events.orgNONSGML ical.net 4.0//EN
VERSION:2.0
BEGIN:VEVENT
DTEND;VALUE=DATE:20260606
DTSTAMP:20260421T094812Z
DTSTART;VALUE=DATE:20260606
LOCATION:Cobb's Comedy Club\, San Francisco
ORGANIZER;CN=:mailto:events@events.org
SEQUENCE:0
SUMMARY:Craig Conant
UID:ff55ebcb-7d9b-49ef-a1a7-3b89252e0c99
URL:https://events.org/e/Craig-Conant/A5XKJ8YC
BEGIN:VALARM
ACTION:DISPLAY
SUMMARY:Reminder
TRIGGER:-P1D
END:VALARM
END:VEVENT
END:VCALENDAR
