BEGIN:VCALENDAR
METHOD:REQUEST
PRODID:-//events.orgNONSGML ical.net 4.0//EN
VERSION:2.0
BEGIN:VEVENT
DTEND;VALUE=DATE:20260502
DTSTAMP:20260424T080546Z
DTSTART;VALUE=DATE:20260502
LOCATION:SILO\, Dallas
ORGANIZER;CN=:mailto:events@events.org
SEQUENCE:0
SUMMARY:STMPD RCRDS Label Night (18 and Over)
UID:5351d807-a2a5-4206-9015-e76a73c91799
URL:https://events.org/e/STMPD-RCRDS-Label-Night-18-and-Over/SFDV558W
BEGIN:VALARM
ACTION:DISPLAY
SUMMARY:Reminder
TRIGGER:-P1D
END:VALARM
END:VEVENT
END:VCALENDAR
