BEGIN:VCALENDAR
METHOD:REQUEST
PRODID:-//events.orgNONSGML ical.net 4.0//EN
VERSION:2.0
BEGIN:VEVENT
DTEND;VALUE=DATE:20260425
DTSTAMP:20260422T084708Z
DTSTART;VALUE=DATE:20260425
LOCATION:Gershwin Theatre\, New York
ORGANIZER;CN=:mailto:events@events.org
SEQUENCE:0
SUMMARY:Wicked (NY)
UID:90a6ff4b-30a4-4c6b-8e2b-3f1a66537225
URL:https://events.org/e/Wicked-NY/KJGDPTY9
BEGIN:VALARM
ACTION:DISPLAY
SUMMARY:Reminder
TRIGGER:-P1D
END:VALARM
END:VEVENT
END:VCALENDAR
