BEGIN:VCALENDAR
METHOD:REQUEST
PRODID:-//events.orgNONSGML ical.net 4.0//EN
VERSION:2.0
BEGIN:VEVENT
DTEND;VALUE=DATE:20250506
DTSTAMP:20260421T155624Z
DTSTART;VALUE=DATE:20250506
LOCATION:Toyota Center - TX\, Houston
ORGANIZER;CN=:mailto:events@events.org
SEQUENCE:0
SUMMARY:Rauw Alejandro - Cosa Nuestra World Tour
UID:7f3aab23-ee83-4141-a340-eded38981f13
URL:https://events.org/e/Rauw-Alejandro---Cosa-Nuestra-World-Tour/5923G9PX
BEGIN:VALARM
ACTION:DISPLAY
SUMMARY:Reminder
TRIGGER:-P1D
END:VALARM
END:VEVENT
END:VCALENDAR
