BEGIN:VCALENDAR
METHOD:REQUEST
PRODID:-//events.orgNONSGML ical.net 4.0//EN
VERSION:2.0
BEGIN:VEVENT
DTEND;VALUE=DATE:20260521
DTSTAMP:20260422T090230Z
DTSTART;VALUE=DATE:20260521
LOCATION:Mark Taper Forum\, Los Angeles
ORGANIZER;CN=:mailto:events@events.org
SEQUENCE:0
SUMMARY:Primary Trust
UID:1cb0cdb9-d444-4d80-bbfb-5948e34e4083
URL:https://events.org/e/Primary-Trust/36SAYWV7
BEGIN:VALARM
ACTION:DISPLAY
SUMMARY:Reminder
TRIGGER:-P1D
END:VALARM
END:VEVENT
END:VCALENDAR
