BEGIN:VCALENDAR
METHOD:REQUEST
PRODID:-//events.orgNONSGML ical.net 4.0//EN
VERSION:2.0
BEGIN:VEVENT
DTEND;VALUE=DATE:20260511
DTSTAMP:20260422T083837Z
DTSTART;VALUE=DATE:20260511
LOCATION:Chase Field\, Phoenix
ORGANIZER;CN=:mailto:events@events.org
SEQUENCE:0
SUMMARY:Chase Field Stadium Tours
UID:8f298fb2-c76f-43d0-8078-b195980d3197
URL:https://events.org/e/Chase-Field-Stadium-Tours/8P4JANDU
BEGIN:VALARM
ACTION:DISPLAY
SUMMARY:Reminder
TRIGGER:-P1D
END:VALARM
END:VEVENT
END:VCALENDAR
