BEGIN:VCALENDAR
METHOD:REQUEST
PRODID:-//events.orgNONSGML ical.net 4.0//EN
VERSION:2.0
BEGIN:VEVENT
DTEND;VALUE=DATE:20260709
DTSTAMP:20260424T092326Z
DTSTART;VALUE=DATE:20260709
LOCATION:Taproot Theatre\, Seattle
ORGANIZER;CN=:mailto:events@events.org
SEQUENCE:0
SUMMARY:Joseph and the Amazing Technicolor Dreamcoat
UID:09bfbc58-7558-479c-9b7c-0ebbd7d454b3
URL:https://events.org/e/Joseph-and-the-Amazing-Technicolor-Dreamcoat/HGG2
 5JR8
BEGIN:VALARM
ACTION:DISPLAY
SUMMARY:Reminder
TRIGGER:-P1D
END:VALARM
END:VEVENT
END:VCALENDAR
