BEGIN:VCALENDAR
METHOD:REQUEST
PRODID:-//events.orgNONSGML ical.net 4.0//EN
VERSION:2.0
BEGIN:VEVENT
DTEND;VALUE=DATE:20260508
DTSTAMP:20260421T082048Z
DTSTART;VALUE=DATE:20260508
LOCATION:NRG Arena\, Houston
ORGANIZER;CN=:mailto:events@events.org
SEQUENCE:0
SUMMARY:HCC Spring 2026 (9 AM) Commencement Ceremony
UID:62ab47f9-021e-420e-839f-1f3bf81f9519
URL:https://events.org/e/HCC-Spring-2026-9-AM-Commencement-Ceremony/7CT9C2
 AD
BEGIN:VALARM
ACTION:DISPLAY
SUMMARY:Reminder
TRIGGER:-P1D
END:VALARM
END:VEVENT
END:VCALENDAR
