BEGIN:VCALENDAR
METHOD:REQUEST
PRODID:-//events.orgNONSGML ical.net 4.0//EN
VERSION:2.0
BEGIN:VEVENT
DTEND;VALUE=DATE:20260507
DTSTAMP:20260421T095728Z
DTSTART;VALUE=DATE:20260507
LOCATION:Tractor\, Seattle
ORGANIZER;CN=:mailto:events@events.org
SEQUENCE:0
SUMMARY:SUSS at the Tractor w/ Evann McIntosh (partially seated)
UID:f8d6bc78-460a-4f09-a218-5fc77aed3928
URL:https://events.org/e/SUSS-at-the-Tractor-w-Evann-McIntosh-partiall/KIX
 L62BT
BEGIN:VALARM
ACTION:DISPLAY
SUMMARY:Reminder
TRIGGER:-P1D
END:VALARM
END:VEVENT
END:VCALENDAR
