BEGIN:VCALENDAR
METHOD:REQUEST
PRODID:-//events.orgNONSGML ical.net 4.0//EN
VERSION:2.0
BEGIN:VEVENT
DTEND;VALUE=DATE:20260425
DTSTAMP:20260423T133217Z
DTSTART;VALUE=DATE:20260425
LOCATION:The Church Nightclub\, Denver
ORGANIZER;CN=:mailto:events@events.org
SEQUENCE:0
SUMMARY:Reggaeton Rave
UID:18ffa0d0-0111-4a0f-aac7-751c39a72bed
URL:https://events.org/e/Reggaeton-Rave/QOQ8T5RU
BEGIN:VALARM
ACTION:DISPLAY
SUMMARY:Reminder
TRIGGER:-P1D
END:VALARM
END:VEVENT
END:VCALENDAR
