BEGIN:VCALENDAR
METHOD:REQUEST
PRODID:-//events.orgNONSGML ical.net 4.0//EN
VERSION:2.0
BEGIN:VEVENT
DTEND;VALUE=DATE:20260710
DTSTAMP:20260424T092035Z
DTSTART;VALUE=DATE:20260710
LOCATION:Walter Studios\, Phoenix
ORGANIZER;CN=:mailto:events@events.org
SEQUENCE:0
SUMMARY:Outlaws Tour w Emorfik & Usaybflow (21 and Over)
UID:58cc0bca-3be2-4af7-8e5a-feefd339d711
URL:https://events.org/e/Outlaws-Tour-w-Emorfik-Usaybflow-21-and-Over/V94K
 OXFI
BEGIN:VALARM
ACTION:DISPLAY
SUMMARY:Reminder
TRIGGER:-P1D
END:VALARM
END:VEVENT
END:VCALENDAR
