BEGIN:VCALENDAR
METHOD:REQUEST
PRODID:-//events.orgNONSGML ical.net 4.0//EN
VERSION:2.0
BEGIN:VEVENT
DTEND;VALUE=DATE:20261017
DTSTAMP:20260421T104348Z
DTSTART;VALUE=DATE:20261017
LOCATION:American Airlines Center\, Dallas
ORGANIZER;CN=:mailto:events@events.org
SEQUENCE:0
SUMMARY:WEEZER: The Gathering
UID:0bdd64af-3b5d-4021-9a7e-df9a64275014
URL:https://events.org/e/WEEZER-The-Gathering/BEGI9E2X
BEGIN:VALARM
ACTION:DISPLAY
SUMMARY:Reminder
TRIGGER:-P1D
END:VALARM
END:VEVENT
END:VCALENDAR
