BEGIN:VCALENDAR
METHOD:REQUEST
PRODID:-//events.orgNONSGML ical.net 4.0//EN
VERSION:2.0
BEGIN:VEVENT
DTEND;VALUE=DATE:20260603
DTSTAMP:20260421T144130Z
DTSTART;VALUE=DATE:20260603
LOCATION:House of Blues Houston\, Houston
ORGANIZER;CN=:mailto:events@events.org
SEQUENCE:0
SUMMARY:Yung Bleu - We All Need Therapy Tour
UID:6929a436-295d-4f21-9399-2e9ed5e8b682
URL:https://events.org/e/Yung-Bleu---We-All-Need-Therapy-Tour/FQGJBGC5
BEGIN:VALARM
ACTION:DISPLAY
SUMMARY:Reminder
TRIGGER:-P1D
END:VALARM
END:VEVENT
END:VCALENDAR
