BEGIN:VCALENDAR
METHOD:REQUEST
PRODID:-//events.orgNONSGML ical.net 4.0//EN
VERSION:2.0
BEGIN:VEVENT
DTEND;VALUE=DATE:20260517
DTSTAMP:20260419T143755Z
DTSTART;VALUE=DATE:20260517
LOCATION:Nationals Park\, Washington
ORGANIZER;CN=:mailto:events@events.org
SEQUENCE:0
SUMMARY:Washington Nationals vs Baltimore Orioles: Kids Novelty Sliding Mi
 tt
UID:fde5c79e-117c-467e-abed-9c63d7aef03f
URL:https://events.org/e/Washington-Nationals-vs-Baltimore-Orioles-Kid/7SU
 WB5IS
BEGIN:VALARM
ACTION:DISPLAY
SUMMARY:Reminder
TRIGGER:-P1D
END:VALARM
END:VEVENT
END:VCALENDAR
