BEGIN:VCALENDAR
METHOD:REQUEST
PRODID:-//events.orgNONSGML ical.net 4.0//EN
VERSION:2.0
BEGIN:VEVENT
DTEND;VALUE=DATE:20260718
DTSTAMP:20260423T133545Z
DTSTART;VALUE=DATE:20260718
LOCATION:Humphreys Concerts By the Bay\, San Diego
ORGANIZER;CN=:mailto:events@events.org
SEQUENCE:0
SUMMARY:Tower of Power
UID:509930db-5cb4-4e3c-9a70-41356289c370
URL:https://events.org/e/Tower-of-Power/SAWNV27M
BEGIN:VALARM
ACTION:DISPLAY
SUMMARY:Reminder
TRIGGER:-P1D
END:VALARM
END:VEVENT
END:VCALENDAR
