BEGIN:VCALENDAR
METHOD:REQUEST
PRODID:-//events.orgNONSGML ical.net 4.0//EN
VERSION:2.0
BEGIN:VEVENT
DTEND;VALUE=DATE:20260517
DTSTAMP:20260421T103936Z
DTSTART;VALUE=DATE:20260517
LOCATION:Three Links Deep Ellum\, Dallas
ORGANIZER;CN=:mailto:events@events.org
SEQUENCE:0
SUMMARY:Actor Observer\, Godseyes
UID:0fb322ce-468d-42f7-9673-8de6e5e81daf
URL:https://events.org/e/Actor-Observer-Godseyes/TKLX6ST6
BEGIN:VALARM
ACTION:DISPLAY
SUMMARY:Reminder
TRIGGER:-P1D
END:VALARM
END:VEVENT
END:VCALENDAR
