BEGIN:VCALENDAR
METHOD:REQUEST
PRODID:-//events.orgNONSGML ical.net 4.0//EN
VERSION:2.0
BEGIN:VEVENT
DTEND;VALUE=DATE:20260527
DTSTAMP:20260423T133328Z
DTSTART;VALUE=DATE:20260527
LOCATION:Guthrie Theater - Wurtele Thrust Stage\, Minneapolis
ORGANIZER;CN=:mailto:events@events.org
SEQUENCE:0
SUMMARY:Little Women
UID:1f39ead6-b7bb-442d-97a5-7bbe089f1baa
URL:https://events.org/e/Little-Women/UVSDOWTS
BEGIN:VALARM
ACTION:DISPLAY
SUMMARY:Reminder
TRIGGER:-P1D
END:VALARM
END:VEVENT
END:VCALENDAR
