BEGIN:VCALENDAR
METHOD:REQUEST
PRODID:-//events.orgNONSGML ical.net 4.0//EN
VERSION:2.0
BEGIN:VEVENT
DTEND;VALUE=DATE:20260624
DTSTAMP:20260421T094954Z
DTSTART;VALUE=DATE:20260624
LOCATION:Valley Bar\, Phoenix
ORGANIZER;CN=:mailto:events@events.org
SEQUENCE:0
SUMMARY:THE SOPRANOS TRIVIA w/ COREY G + CAROLYN
UID:97c9858d-ae20-49e6-951b-f9dd6d641667
URL:https://events.org/e/THE-SOPRANOS-TRIVIA-w-COREY-G-CAROLYN/4L2DBUIN
BEGIN:VALARM
ACTION:DISPLAY
SUMMARY:Reminder
TRIGGER:-P1D
END:VALARM
END:VEVENT
END:VCALENDAR
