BEGIN:VCALENDAR
METHOD:REQUEST
PRODID:-//events.orgNONSGML ical.net 4.0//EN
VERSION:2.0
BEGIN:VEVENT
DTEND;VALUE=DATE:20260709
DTSTAMP:20260421T082545Z
DTSTART;VALUE=DATE:20260709
LOCATION:Leader Bank Pavilion\, Boston
ORGANIZER;CN=:mailto:events@events.org
SEQUENCE:0
SUMMARY:Buju Banton & Stephen Marley: Roots and Rhymes Tour
UID:2869cd8e-f249-4825-b484-e3b5e61242ad
URL:https://events.org/e/Buju-Banton-Stephen-Marley-Roots-and-Rhymes-Tour/
 WCRLFFYF
BEGIN:VALARM
ACTION:DISPLAY
SUMMARY:Reminder
TRIGGER:-P1D
END:VALARM
END:VEVENT
END:VCALENDAR
