BEGIN:VCALENDAR
METHOD:REQUEST
PRODID:-//events.orgNONSGML ical.net 4.0//EN
VERSION:2.0
BEGIN:VEVENT
DTEND;VALUE=DATE:20260616
DTSTAMP:20260421T104640Z
DTSTART;VALUE=DATE:20260616
LOCATION:Bluebird Theatre\, Denver
ORGANIZER;CN=:mailto:events@events.org
SEQUENCE:0
SUMMARY:Tigers Jaw w/ Pool Kids
UID:90a05b53-0acf-4c8f-b8e4-86e45e1e5bb0
URL:https://events.org/e/Tigers-Jaw-w-Pool-Kids/3GP44RAO
BEGIN:VALARM
ACTION:DISPLAY
SUMMARY:Reminder
TRIGGER:-P1D
END:VALARM
END:VEVENT
END:VCALENDAR
