BEGIN:VCALENDAR
METHOD:REQUEST
PRODID:-//events.orgNONSGML ical.net 4.0//EN
VERSION:2.0
BEGIN:VEVENT
DTEND;VALUE=DATE:20261006
DTSTAMP:20260422T091705Z
DTSTART;VALUE=DATE:20261006
LOCATION:Emerson Colonial Theatre\, Boston
ORGANIZER;CN=:mailto:events@events.org
SEQUENCE:0
SUMMARY:Half-Baked Stories About My Dead Mom\nwith Ira Glass and Etgar Ker
 et - (All audience members regardless of age must have a ticket.)
UID:21a84b30-3ee5-4366-b5f9-bdc0181c8fe7
URL:https://events.org/e/Half-Baked-Stories-About-My-Dead-Mom-with-Ira/OVW
 WUVOI
BEGIN:VALARM
ACTION:DISPLAY
SUMMARY:Reminder
TRIGGER:-P1D
END:VALARM
END:VEVENT
END:VCALENDAR
