BEGIN:VCALENDAR
METHOD:REQUEST
PRODID:-//events.orgNONSGML ical.net 4.0//EN
VERSION:2.0
BEGIN:VEVENT
DTEND;VALUE=DATE:20260429
DTSTAMP:20260421T104445Z
DTSTART;VALUE=DATE:20260429
LOCATION:Nectar Lounge\, Seattle
ORGANIZER;CN=:mailto:events@events.org
SEQUENCE:0
SUMMARY:Las Cafeteras with Special Guests (21+ Event)
UID:ae3479e1-adc0-4509-b775-185d98ebaba0
URL:https://events.org/e/Las-Cafeteras-with-Special-Guests-21-Event/C4SVNO
 HN
BEGIN:VALARM
ACTION:DISPLAY
SUMMARY:Reminder
TRIGGER:-P1D
END:VALARM
END:VEVENT
END:VCALENDAR
