BEGIN:VCALENDAR
METHOD:REQUEST
PRODID:-//events.orgNONSGML ical.net 4.0//EN
VERSION:2.0
BEGIN:VEVENT
DTEND;VALUE=DATE:20260513
DTSTAMP:20260425T180326Z
DTSTART;VALUE=DATE:20260513
LOCATION:Vinyl\, Atlanta
ORGANIZER;CN=:mailto:events@events.org
SEQUENCE:0
SUMMARY:2026 Enno Cheng - Moon Phases 2.0 World Tour
UID:c9f3ad06-1278-4468-8a3f-a74d292fafeb
URL:https://events.org/e/2026-Enno-Cheng---Moon-Phases-20-World-Tour/JPKDI
 5Y8
BEGIN:VALARM
ACTION:DISPLAY
SUMMARY:Reminder
TRIGGER:-P1D
END:VALARM
END:VEVENT
END:VCALENDAR
