BEGIN:VCALENDAR
METHOD:REQUEST
PRODID:-//events.orgNONSGML ical.net 4.0//EN
VERSION:2.0
BEGIN:VEVENT
DTEND;VALUE=DATE:20261212
DTSTAMP:20260421T095117Z
DTSTART;VALUE=DATE:20261212
LOCATION:Tampa Theater\, Tampa
ORGANIZER;CN=:mailto:events@events.org
SEQUENCE:0
SUMMARY:The Fab Four: Tribute To The Beatles A Hard Days Night
UID:5a051826-4b51-43ef-a9c5-e861dbf5065f
URL:https://events.org/e/The-Fab-Four-Tribute-To-The-Beatles-A-Hard-Da/P62
 LTCST
BEGIN:VALARM
ACTION:DISPLAY
SUMMARY:Reminder
TRIGGER:-P1D
END:VALARM
END:VEVENT
END:VCALENDAR
