BEGIN:VCALENDAR
METHOD:REQUEST
PRODID:-//events.orgNONSGML ical.net 4.0//EN
VERSION:2.0
BEGIN:VEVENT
DTEND;VALUE=DATE:20260605
DTSTAMP:20260422T090045Z
DTSTART;VALUE=DATE:20260605
LOCATION:Echostage\, Washington
ORGANIZER;CN=:mailto:events@events.org
SEQUENCE:0
SUMMARY:Layton Giordani [360º Set]
UID:b257bd07-436e-4322-938c-54488b9d3616
URL:https://events.org/e/Layton-Giordani-360o-Set/KNKY7G3F
BEGIN:VALARM
ACTION:DISPLAY
SUMMARY:Reminder
TRIGGER:-P1D
END:VALARM
END:VEVENT
END:VCALENDAR
