BEGIN:VCALENDAR
METHOD:REQUEST
PRODID:-//events.orgNONSGML ical.net 4.0//EN
VERSION:2.0
BEGIN:VEVENT
DTEND;VALUE=DATE:20260528
DTSTAMP:20260424T080429Z
DTSTART;VALUE=DATE:20260528
LOCATION:Second City-Chicago: Mainstage\, Chicago
ORGANIZER;CN=:mailto:events@events.org
SEQUENCE:0
SUMMARY:The Second City Mainstage 114th Revue (Minors must be accompanied 
 by an adult)
UID:01431fcd-1892-4556-ae8f-e01dfb1b8e03
URL:https://events.org/e/The-Second-City-Mainstage-114th-Revue-Minors/HGAA
 6B6X
BEGIN:VALARM
ACTION:DISPLAY
SUMMARY:Reminder
TRIGGER:-P1D
END:VALARM
END:VEVENT
END:VCALENDAR
