BEGIN:VCALENDAR
METHOD:REQUEST
PRODID:-//events.orgNONSGML ical.net 4.0//EN
VERSION:2.0
BEGIN:VEVENT
DTEND;VALUE=DATE:20260510
DTSTAMP:20260423T133342Z
DTSTART;VALUE=DATE:20260510
LOCATION:Bellco Theatre\, Denver
ORGANIZER;CN=:mailto:events@events.org
SEQUENCE:0
SUMMARY:Charlie Puth: Whatever's Clever! Tour
UID:0a78faf1-0c56-4f59-b395-6d5e10d714c9
URL:https://events.org/e/Charlie-Puth-Whatevers-Clever-Tour/MRK6UG3I
BEGIN:VALARM
ACTION:DISPLAY
SUMMARY:Reminder
TRIGGER:-P1D
END:VALARM
END:VEVENT
END:VCALENDAR
