BEGIN:VCALENDAR
METHOD:REQUEST
PRODID:-//events.orgNONSGML ical.net 4.0//EN
VERSION:2.0
BEGIN:VEVENT
DTEND;VALUE=DATE:20260426
DTSTAMP:20260422T085151Z
DTSTART;VALUE=DATE:20260426
LOCATION:Banksy Museum New York\, New York
ORGANIZER;CN=:mailto:events@events.org
SEQUENCE:0
SUMMARY:The Banksy Museum New York!
UID:2fedb782-9a23-41f2-bd8f-a9d1e2a39bdb
URL:https://events.org/e/The-Banksy-Museum-New-York/TMA487BJ
BEGIN:VALARM
ACTION:DISPLAY
SUMMARY:Reminder
TRIGGER:-P1D
END:VALARM
END:VEVENT
END:VCALENDAR
