BEGIN:VCALENDAR
METHOD:REQUEST
PRODID:-//events.orgNONSGML ical.net 4.0//EN
VERSION:2.0
BEGIN:VEVENT
DTEND;VALUE=DATE:20260523
DTSTAMP:20260422T090809Z
DTSTART;VALUE=DATE:20260523
LOCATION:Aragon Ballroom\, Chicago
ORGANIZER;CN=:mailto:events@events.org
SEQUENCE:0
SUMMARY:SLIDE AWAY 2026
UID:5120d5f4-cc17-408c-92e5-1c9199c2c2fa
URL:https://events.org/e/SLIDE-AWAY-2026/YPLFVSDD
BEGIN:VALARM
ACTION:DISPLAY
SUMMARY:Reminder
TRIGGER:-P1D
END:VALARM
END:VEVENT
END:VCALENDAR
