BEGIN:VCALENDAR
METHOD:REQUEST
PRODID:-//events.orgNONSGML ical.net 4.0//EN
VERSION:2.0
BEGIN:VEVENT
DTEND;VALUE=DATE:20260625
DTSTAMP:20260421T095735Z
DTSTART;VALUE=DATE:20260625
LOCATION:Crescent Ballroom\, Phoenix
ORGANIZER;CN=:mailto:events@events.org
SEQUENCE:0
SUMMARY:THE ULTIMATE DOORS: TRIBUTE TO THE DOORS
UID:36b04ebf-94de-4942-91d4-9f466cb97d3c
URL:https://events.org/e/THE-ULTIMATE-DOORS-TRIBUTE-TO-THE-DOORS/V57T2NRF
BEGIN:VALARM
ACTION:DISPLAY
SUMMARY:Reminder
TRIGGER:-P1D
END:VALARM
END:VEVENT
END:VCALENDAR
