BEGIN:VCALENDAR
METHOD:REQUEST
PRODID:-//events.orgNONSGML ical.net 4.0//EN
VERSION:2.0
BEGIN:VEVENT
DTEND;VALUE=DATE:20260619
DTSTAMP:20260421T104310Z
DTSTART;VALUE=DATE:20260619
LOCATION:The Foundry\, Philadelphia
ORGANIZER;CN=:mailto:events@events.org
SEQUENCE:0
SUMMARY:Kenny Mason - American BULLDAWG Tour
UID:e0b0a657-0775-4286-8aa0-607855a18f30
URL:https://events.org/e/Kenny-Mason---American-BULLDAWG-Tour/CHBN25JS
BEGIN:VALARM
ACTION:DISPLAY
SUMMARY:Reminder
TRIGGER:-P1D
END:VALARM
END:VEVENT
END:VCALENDAR
