BEGIN:VCALENDAR
METHOD:REQUEST
PRODID:-//events.orgNONSGML ical.net 4.0//EN
VERSION:2.0
BEGIN:VEVENT
DTEND;VALUE=DATE:20260422
DTSTAMP:20260422T090626Z
DTSTART;VALUE=DATE:20260422
LOCATION:Gerald Schoenfeld Theatre\, New York
ORGANIZER;CN=:mailto:events@events.org
SEQUENCE:0
SUMMARY:Buena Vista Social Club
UID:b67df642-8cb9-4bba-b8fc-8592d9b38c83
URL:https://events.org/e/Buena-Vista-Social-Club/UOIB6QX6
BEGIN:VALARM
ACTION:DISPLAY
SUMMARY:Reminder
TRIGGER:-P1D
END:VALARM
END:VEVENT
END:VCALENDAR
