BEGIN:VCALENDAR
METHOD:REQUEST
PRODID:-//events.orgNONSGML ical.net 4.0//EN
VERSION:2.0
BEGIN:VEVENT
DTEND;VALUE=DATE:20260711
DTSTAMP:20260424T092607Z
DTSTART;VALUE=DATE:20260711
LOCATION:Cobb's Comedy Club\, San Francisco
ORGANIZER;CN=:mailto:events@events.org
SEQUENCE:0
SUMMARY:James Austin Johnson
UID:42105b43-f010-4bd0-9a09-6c904d35ecd5
URL:https://events.org/e/James-Austin-Johnson/9DPWJQMX
BEGIN:VALARM
ACTION:DISPLAY
SUMMARY:Reminder
TRIGGER:-P1D
END:VALARM
END:VEVENT
END:VCALENDAR
