BEGIN:VCALENDAR
METHOD:REQUEST
PRODID:-//events.orgNONSGML ical.net 4.0//EN
VERSION:2.0
BEGIN:VEVENT
DTEND;VALUE=DATE:20260710
DTSTAMP:20260424T092403Z
DTSTART;VALUE=DATE:20260710
LOCATION:Oracle Park\, San Francisco
ORGANIZER;CN=:mailto:events@events.org
SEQUENCE:0
SUMMARY:San Francisco Giants vs Colorado Rockies: Black Heritage Night Fir
 eworks
UID:c6d3a263-c0f8-44e1-a7cc-fb79b18200d1
URL:https://events.org/e/San-Francisco-Giants-vs-Colorado-Rockies-Blac/OEJ
 HQITW
BEGIN:VALARM
ACTION:DISPLAY
SUMMARY:Reminder
TRIGGER:-P1D
END:VALARM
END:VEVENT
END:VCALENDAR
