BEGIN:VCALENDAR
METHOD:REQUEST
PRODID:-//events.orgNONSGML ical.net 4.0//EN
VERSION:2.0
BEGIN:VEVENT
DTEND;VALUE=DATE:20260421
DTSTAMP:20260421T095345Z
DTSTART;VALUE=DATE:20260421
LOCATION:Walt Disney Concert Hall\, Los Angeles
ORGANIZER;CN=:mailto:events@events.org
SEQUENCE:0
SUMMARY:Chamber Music\nwith Members of the Los Angeles Philharmonic
UID:22e78c89-f55f-4535-b7d6-0e936032aff9
URL:https://events.org/e/Chamber-Music-with-Members-of-the-Los-Angeles/PDD
 FB78Q
BEGIN:VALARM
ACTION:DISPLAY
SUMMARY:Reminder
TRIGGER:-P1D
END:VALARM
END:VEVENT
END:VCALENDAR
