BEGIN:VCALENDAR
METHOD:REQUEST
PRODID:-//events.orgNONSGML ical.net 4.0//EN
VERSION:2.0
BEGIN:VEVENT
DTEND;VALUE=DATE:20260507
DTSTAMP:20260421T095719Z
DTSTART;VALUE=DATE:20260507
LOCATION:Blue Note Los Angeles\, Los Angeles
ORGANIZER;CN=:mailto:events@events.org
SEQUENCE:0
SUMMARY:Bilal - '1st Born Second' Album 25th Anniversary
UID:28635251-c501-4fbd-aed1-b083f4cc43ee
URL:https://events.org/e/Bilal---1st-Born-Second-Album-25th-Anniversary/OD
 G8NB8Q
BEGIN:VALARM
ACTION:DISPLAY
SUMMARY:Reminder
TRIGGER:-P1D
END:VALARM
END:VEVENT
END:VCALENDAR
