BEGIN:VCALENDAR
METHOD:REQUEST
PRODID:-//events.orgNONSGML ical.net 4.0//EN
VERSION:2.0
BEGIN:VEVENT
DTEND;VALUE=DATE:20260510
DTSTAMP:20260421T095343Z
DTSTART;VALUE=DATE:20260510
LOCATION:CareFirst Arena\, Washington
ORGANIZER;CN=:mailto:events@events.org
SEQUENCE:0
SUMMARY:Washington Mystics vs. New York Liberty
UID:8020db94-73c4-469f-b78a-d20fd3246aef
URL:https://events.org/e/Washington-Mystics-vs-New-York-Liberty/6Q8QM3P9
BEGIN:VALARM
ACTION:DISPLAY
SUMMARY:Reminder
TRIGGER:-P1D
END:VALARM
END:VEVENT
END:VCALENDAR
