BEGIN:VCALENDAR
METHOD:REQUEST
PRODID:-//events.orgNONSGML ical.net 4.0//EN
VERSION:2.0
BEGIN:VEVENT
DTEND;VALUE=DATE:20260613
DTSTAMP:20260422T084344Z
DTSTART;VALUE=DATE:20260613
LOCATION:Brick By Brick\, San Diego
ORGANIZER;CN=:mailto:events@events.org
SEQUENCE:0
SUMMARY:Wacken Metal Battle - National Finals
UID:8f4d2a23-d94c-423a-8e91-e406e2513596
URL:https://events.org/e/Wacken-Metal-Battle---National-Finals/VV4WJEIB
BEGIN:VALARM
ACTION:DISPLAY
SUMMARY:Reminder
TRIGGER:-P1D
END:VALARM
END:VEVENT
END:VCALENDAR
