BEGIN:VCALENDAR
METHOD:REQUEST
PRODID:-//events.orgNONSGML ical.net 4.0//EN
VERSION:2.0
BEGIN:VEVENT
DTEND;VALUE=DATE:20260914
DTSTAMP:20260424T092725Z
DTSTART;VALUE=DATE:20260914
LOCATION:TSDMAAC\, Detroit
ORGANIZER;CN=:mailto:events@events.org
SEQUENCE:0
SUMMARY:Ensiferum\, Firewind
UID:2f77cf80-b5ba-46f6-b6d0-2a6f59f2dff0
URL:https://events.org/e/Ensiferum-Firewind/WUJ23OQQ
BEGIN:VALARM
ACTION:DISPLAY
SUMMARY:Reminder
TRIGGER:-P1D
END:VALARM
END:VEVENT
END:VCALENDAR
