BEGIN:VCALENDAR
METHOD:REQUEST
PRODID:-//events.orgNONSGML ical.net 4.0//EN
VERSION:2.0
BEGIN:VEVENT
DTEND;VALUE=DATE:20260722
DTSTAMP:20260422T090809Z
DTSTART;VALUE=DATE:20260722
LOCATION:Daikin Park\, Houston
ORGANIZER;CN=:mailto:events@events.org
SEQUENCE:0
SUMMARY:Houston Astros vs. Miami Marlins
UID:4000914e-561f-493e-91c4-9a6818c07134
URL:https://events.org/e/Houston-Astros-vs-Miami-Marlins/D35KGG58
BEGIN:VALARM
ACTION:DISPLAY
SUMMARY:Reminder
TRIGGER:-P1D
END:VALARM
END:VEVENT
END:VCALENDAR
