BEGIN:VCALENDAR
METHOD:REQUEST
PRODID:-//events.orgNONSGML ical.net 4.0//EN
VERSION:2.0
BEGIN:VEVENT
DTEND;VALUE=DATE:20260528
DTSTAMP:20260424T080939Z
DTSTART;VALUE=DATE:20260528
LOCATION:Chicago Shakespeare Theater\, Chicago
ORGANIZER;CN=:mailto:events@events.org
SEQUENCE:0
SUMMARY:Brokeback Mountain
UID:e1141715-5a12-42b1-8c07-7ccbe8a928b9
URL:https://events.org/e/Brokeback-Mountain/U447C6BV
BEGIN:VALARM
ACTION:DISPLAY
SUMMARY:Reminder
TRIGGER:-P1D
END:VALARM
END:VEVENT
END:VCALENDAR
