BEGIN:VCALENDAR
METHOD:REQUEST
PRODID:-//events.orgNONSGML ical.net 4.0//EN
VERSION:2.0
BEGIN:VEVENT
DTEND;VALUE=DATE:20260604
DTSTAMP:20260423T133643Z
DTSTART;VALUE=DATE:20260604
LOCATION:Synovus Bank Amphitheater at Chastain Park\, Atlanta
ORGANIZER;CN=:mailto:events@events.org
SEQUENCE:0
SUMMARY:Khalid: It's Always Summer Somewhere Tour
UID:b909b12e-630c-4457-8097-aa0cb8a89ab3
URL:https://events.org/e/Khalid-Its-Always-Summer-Somewhere-Tour/QUVAVA7K
BEGIN:VALARM
ACTION:DISPLAY
SUMMARY:Reminder
TRIGGER:-P1D
END:VALARM
END:VEVENT
END:VCALENDAR
