BEGIN:VCALENDAR
METHOD:REQUEST
PRODID:-//events.orgNONSGML ical.net 4.0//EN
VERSION:2.0
BEGIN:VEVENT
DTEND;VALUE=DATE:20260528
DTSTAMP:20260425T180802Z
DTSTART;VALUE=DATE:20260528
LOCATION:The Anthem\, Washington
ORGANIZER;CN=:mailto:events@events.org
SEQUENCE:0
SUMMARY:Baby Keem - The Ca$ino Tour
UID:d028654c-9429-4980-befa-5c35b3be9b6c
URL:https://events.org/e/Baby-Keem---The-Caino-Tour/5BWGBK2I
BEGIN:VALARM
ACTION:DISPLAY
SUMMARY:Reminder
TRIGGER:-P1D
END:VALARM
END:VEVENT
END:VCALENDAR
