BEGIN:VCALENDAR
METHOD:REQUEST
PRODID:-//events.orgNONSGML ical.net 4.0//EN
VERSION:2.0
BEGIN:VEVENT
DTEND;VALUE=DATE:20261007
DTSTAMP:20260422T091023Z
DTSTART;VALUE=DATE:20261007
LOCATION:The Bomb Factory\, Dallas
ORGANIZER;CN=:mailto:events@events.org
SEQUENCE:0
SUMMARY:Jack White (This is a Phone Free Show - 16 and Under with Parent o
 r Legal Guardian)
UID:05fd3d06-46ae-4c06-886d-f9a476885785
URL:https://events.org/e/Jack-White-This-is-a-Phone-Free-Show---16-and/3FT
 OIL55
BEGIN:VALARM
ACTION:DISPLAY
SUMMARY:Reminder
TRIGGER:-P1D
END:VALARM
END:VEVENT
END:VCALENDAR
