BEGIN:VCALENDAR
METHOD:REQUEST
PRODID:-//events.orgNONSGML ical.net 4.0//EN
VERSION:2.0
BEGIN:VEVENT
DTEND;VALUE=DATE:20261013
DTSTAMP:20260422T090345Z
DTSTART;VALUE=DATE:20261013
LOCATION:Crescent Ballroom\, Phoenix
ORGANIZER;CN=:mailto:events@events.org
SEQUENCE:0
SUMMARY:THE BENDS
UID:cec67087-5ee1-475a-aa3a-63e65bb07c57
URL:https://events.org/e/THE-BENDS/38MVLEWT
BEGIN:VALARM
ACTION:DISPLAY
SUMMARY:Reminder
TRIGGER:-P1D
END:VALARM
END:VEVENT
END:VCALENDAR
