BEGIN:VCALENDAR
METHOD:REQUEST
PRODID:-//events.orgNONSGML ical.net 4.0//EN
VERSION:2.0
BEGIN:VEVENT
DTEND;VALUE=DATE:20260506
DTSTAMP:20260423T133838Z
DTSTART;VALUE=DATE:20260506
LOCATION:El Rey Theatre - Los Angeles\, Los Angeles
ORGANIZER;CN=:mailto:events@events.org
SEQUENCE:0
SUMMARY:James K w/ Zsela
UID:9a8ec199-866c-4360-9b76-4066832d7c26
URL:https://events.org/e/James-K-w-Zsela/RTDCDBKJ
BEGIN:VALARM
ACTION:DISPLAY
SUMMARY:Reminder
TRIGGER:-P1D
END:VALARM
END:VEVENT
END:VCALENDAR
